BEGIN:VCALENDAR
VERSION:2.0
PRODID:-//jEvents 2.0 for Joomla//EN
CALSCALE:GREGORIAN
METHOD:PUBLISH
BEGIN:VEVENT
UID:5d1096580475fb46e9f069f07ed69d72
CATEGORIES:每日新聞彙整
SUMMARY:每日剪報
DESCRIPTION;ENCODING=QUOTED-PRINTABLE:\n\n1.銫、碘容許量 食藥署將調降\n\n\n2.印度再生能源下鄉\n
DTSTAMP:20260419T200327Z
DTSTART;TZID=Asia/Taipei;VALUE=DATE:20150816
DTEND;TZID=Asia/Taipei;VALUE=DATE:20150817
SEQUENCE:0
TRANSP:OPAQUE
END:VEVENT
END:VCALENDAR