BEGIN:VCALENDAR
VERSION:2.0
PRODID:-//jEvents 2.0 for Joomla//EN
CALSCALE:GREGORIAN
METHOD:PUBLISH
BEGIN:VEVENT
UID:075bd65292a8674c723e8967349a51ae
CATEGORIES:每日新聞彙整
SUMMARY:每日剪報
DESCRIPTION;ENCODING=QUOTED-PRINTABLE:\n\n1.日民眾反核 電廠對峙4小時\n\n\n2.日零核電告終未來15年依存度衝20％\n\n\n3.新北啟動金山地熱發電探勘作業\n\n\n4.
 日重啟核電前首相轟「亡國」\n\n\n5.趨勢大師：中國太陽能電池拼冠軍\n
DTSTAMP:20260419T200235Z
DTSTART;TZID=Asia/Taipei;VALUE=DATE:20150812
DTEND;TZID=Asia/Taipei;VALUE=DATE:20150813
SEQUENCE:0
TRANSP:OPAQUE
END:VEVENT
END:VCALENDAR