BEGIN:VCALENDAR
VERSION:2.0
PRODID:-//jEvents 2.0 for Joomla//EN
CALSCALE:GREGORIAN
METHOD:PUBLISH
BEGIN:VEVENT
UID:2e3b1e7452c63a4f71956cc73c437781
CATEGORIES:每日新聞彙整
SUMMARY:每日剪報
DESCRIPTION;ENCODING=QUOTED-PRINTABLE:\n\n1.日零核電結束 九州電廠今重啟\n\n\n2.打臉洪秀柱 藍委反對重啟核四\n\n\n3.就是不同調／洪︰朱沒說不贊成核能 朱︰續推非核家園
 \n\n\n4.安倍重啟核電前首相菅直人嗆：亡國總理\n\n\n5.福島以外核災食品規劃解禁\n\n\n6.重啟核四？朱立倫：須經公投\n\n\n7.
 日終結「零核」川內反應爐今重啟\n\n\n8.臺南生技綠能展商機可觀\n
DTSTAMP:20260419T201744Z
DTSTART;TZID=Asia/Taipei;VALUE=DATE:20150811
DTEND;TZID=Asia/Taipei;VALUE=DATE:20150812
SEQUENCE:0
TRANSP:OPAQUE
END:VEVENT
END:VCALENDAR