BEGIN:VCALENDAR
VERSION:2.0
PRODID:-//jEvents 2.0 for Joomla//EN
CALSCALE:GREGORIAN
METHOD:PUBLISH
BEGIN:VEVENT
UID:c301996f63e201c0f62c2ebb51f81e89
CATEGORIES:全院
SUMMARY:研發替代役績優用人單位暨績優役男評選
DESCRIPTION;ENCODING=QUOTED-PRINTABLE:
DTSTAMP:20260419T203421Z
DTSTART;TZID=Asia/Taipei;VALUE=DATE:20150802
DTEND;TZID=Asia/Taipei;VALUE=DATE:20150901
SEQUENCE:0
TRANSP:OPAQUE
END:VEVENT
END:VCALENDAR