BEGIN:VCALENDAR
VERSION:2.0
PRODID:-//jEvents 2.0 for Joomla//EN
CALSCALE:GREGORIAN
METHOD:PUBLISH
BEGIN:VEVENT
UID:85321e4076c70bc31196262694f873f1
CATEGORIES:每日新聞彙整
SUMMARY:每日剪報
DESCRIPTION;ENCODING=QUOTED-PRINTABLE:\n\n1.衝刺再生能源蓋浮動式電站\n\n\n2.國旅卡轉彎明年3月起可自由行\n
DTSTAMP:20260419T201907Z
DTSTART;TZID=Asia/Taipei;VALUE=DATE:20161231
DTEND;TZID=Asia/Taipei;VALUE=DATE:20170101
SEQUENCE:0
TRANSP:OPAQUE
END:VEVENT
END:VCALENDAR