BEGIN:VCALENDAR
VERSION:2.0
PRODID:-//jEvents 2.0 for Joomla//EN
CALSCALE:GREGORIAN
METHOD:PUBLISH
BEGIN:VEVENT
UID:c567c61c16fb89a50b0114b52efe8bd2
CATEGORIES:每日新聞彙整
SUMMARY:每日剪報
DESCRIPTION;ENCODING=QUOTED-PRINTABLE:\n\n1.核四系統老舊「殺肉」恐賣不到半價\n\n\n2.平穩基金難產電價易漲難跌\n\n\n3.綠電不足與經濟危機\n\n\n4.公僕請辭長官不能
 拒絕\n
DTSTAMP:20260419T201907Z
DTSTART;TZID=Asia/Taipei;VALUE=DATE:20161230
DTEND;TZID=Asia/Taipei;VALUE=DATE:20161231
SEQUENCE:0
TRANSP:OPAQUE
END:VEVENT
END:VCALENDAR