BEGIN:VCALENDAR
VERSION:2.0
PRODID:-//jEvents 2.0 for Joomla//EN
CALSCALE:GREGORIAN
METHOD:PUBLISH
BEGIN:VEVENT
UID:ed2c62b5c9efd1a1c917c18f5ab41cde
CATEGORIES:每日新聞彙整
SUMMARY:本日無相關剪報資料
DESCRIPTION;ENCODING=QUOTED-PRINTABLE:
DTSTAMP:20260419T215845Z
DTSTART;TZID=Asia/Taipei;VALUE=DATE:20161229
DTEND;TZID=Asia/Taipei;VALUE=DATE:20161230
SEQUENCE:0
TRANSP:OPAQUE
END:VEVENT
END:VCALENDAR