BEGIN:VCALENDAR
VERSION:2.0
PRODID:-//jEvents 2.0 for Joomla//EN
CALSCALE:GREGORIAN
METHOD:PUBLISH
BEGIN:VEVENT
UID:630eae99231270d0b42e47743d267dc6
CATEGORIES:每日新聞彙整
SUMMARY:每日剪報
DESCRIPTION;ENCODING=QUOTED-PRINTABLE:\n\n1.日攻太陽能富士山設特區\n\n\n2.反核食揭露台日夥伴關係的假面\n
DTSTAMP:20260419T201908Z
DTSTART;TZID=Asia/Taipei;VALUE=DATE:20161227
DTEND;TZID=Asia/Taipei;VALUE=DATE:20161228
SEQUENCE:0
TRANSP:OPAQUE
END:VEVENT
END:VCALENDAR