BEGIN:VCALENDAR
VERSION:2.0
PRODID:-//jEvents 2.0 for Joomla//EN
CALSCALE:GREGORIAN
METHOD:PUBLISH
BEGIN:VEVENT
UID:2fc84cd13123615acb36b8366115f600
CATEGORIES:每日新聞彙整
SUMMARY:本日無相關剪報資料
DESCRIPTION;ENCODING=QUOTED-PRINTABLE:
DTSTAMP:20260419T201907Z
DTSTART;TZID=Asia/Taipei;VALUE=DATE:20161225
DTEND;TZID=Asia/Taipei;VALUE=DATE:20161226
SEQUENCE:0
TRANSP:OPAQUE
END:VEVENT
END:VCALENDAR