BEGIN:VCALENDAR
VERSION:2.0
PRODID:-//jEvents 2.0 for Joomla//EN
CALSCALE:GREGORIAN
METHOD:PUBLISH
BEGIN:VEVENT
UID:488b4c4797c38aae1bd954278323e69b
CATEGORIES:每日新聞彙整
SUMMARY:每日剪報
DESCRIPTION;ENCODING=QUOTED-PRINTABLE:\n\n1,年金改革方案出爐公教勞最高都繳18趴\n
DTSTAMP:20260419T201933Z
DTSTART;TZID=Asia/Taipei;VALUE=DATE:20161226
DTEND;TZID=Asia/Taipei;VALUE=DATE:20161227
SEQUENCE:0
TRANSP:OPAQUE
END:VEVENT
END:VCALENDAR