BEGIN:VCALENDAR
VERSION:2.0
PRODID:-//jEvents 2.0 for Joomla//EN
CALSCALE:GREGORIAN
METHOD:PUBLISH
BEGIN:VEVENT
UID:65a6e18ea5900cd493d016822c33b84f
CATEGORIES:每日新聞彙整
SUMMARY:每日剪報
DESCRIPTION;ENCODING=QUOTED-PRINTABLE:\n\n1.全球首條太陽能道路法正式啟用\n
DTSTAMP:20260419T201745Z
DTSTART;TZID=Asia/Taipei;VALUE=DATE:20161224
DTEND;TZID=Asia/Taipei;VALUE=DATE:20161225
SEQUENCE:0
TRANSP:OPAQUE
END:VEVENT
END:VCALENDAR