BEGIN:VCALENDAR
VERSION:2.0
PRODID:-//jEvents 2.0 for Joomla//EN
CALSCALE:GREGORIAN
METHOD:PUBLISH
BEGIN:VEVENT
UID:e8dac2b9599da160f6e3bd77655f280e
CATEGORIES:每日新聞彙整
SUMMARY:每日剪報
DESCRIPTION;ENCODING=QUOTED-PRINTABLE:\n\n1.全球首條太陽能道路 法國啟用\n\n\n2.政院拍板元旦實施國旅卡8000元限用國內團旅\n\n\n3.專利法鬆綁優惠期放寬至1年\n\n
 \n4.陸首顆「碳衛星」看顏色測二氧化碳\n\n\n5.綠電認購 明年附加費維持1.06元\n\n\n \n
DTSTAMP:20260419T201906Z
DTSTART;TZID=Asia/Taipei;VALUE=DATE:20161223
DTEND;TZID=Asia/Taipei;VALUE=DATE:20161224
SEQUENCE:0
TRANSP:OPAQUE
END:VEVENT
END:VCALENDAR