BEGIN:VCALENDAR
VERSION:2.0
PRODID:-//jEvents 2.0 for Joomla//EN
CALSCALE:GREGORIAN
METHOD:PUBLISH
BEGIN:VEVENT
UID:0958ba773ee71a5dbc3b86ddbb5d63af
CATEGORIES:每日新聞彙整
SUMMARY:每日剪報
DESCRIPTION;ENCODING=QUOTED-PRINTABLE:\n\n1.國際綠能大廠砸千億重金投資彰化\n\n\n2.夢幻反應爐「文殊」成錢坑日忍痛廢爐\n\n\n3.元旦起國旅卡8000元額度限定用在團體旅遊
 \n
DTSTAMP:20260419T215715Z
DTSTART;TZID=Asia/Taipei;VALUE=DATE:20161222
DTEND;TZID=Asia/Taipei;VALUE=DATE:20161223
SEQUENCE:0
TRANSP:OPAQUE
END:VEVENT
END:VCALENDAR