BEGIN:VCALENDAR
VERSION:2.0
PRODID:-//jEvents 2.0 for Joomla//EN
CALSCALE:GREGORIAN
METHOD:PUBLISH
BEGIN:VEVENT
UID:87f264804ce1a9fec1971d6ab36fe484
CATEGORIES:每日新聞彙整
SUMMARY:每日剪報
DESCRIPTION;ENCODING=QUOTED-PRINTABLE:\n\n1.台電砸2千億彰化風光發電\n\n\n2.優先採購國產化零組件台廠可拿1,200億商機\n\n\n3.台電砸3300億投資彰化再生能源\n\
 n\n4.公共工程最有利標　應有政策配套\n\n\n5.台電風光計畫 15年完成\n
DTSTAMP:20260419T215715Z
DTSTART;TZID=Asia/Taipei;VALUE=DATE:20161221
DTEND;TZID=Asia/Taipei;VALUE=DATE:20161222
SEQUENCE:0
TRANSP:OPAQUE
END:VEVENT
END:VCALENDAR