BEGIN:VCALENDAR
VERSION:2.0
PRODID:-//jEvents 2.0 for Joomla//EN
CALSCALE:GREGORIAN
METHOD:PUBLISH
BEGIN:VEVENT
UID:3f1e30f27611376dfaf3ee223e2032dc
CATEGORIES:每日新聞彙整
SUMMARY:每日剪報
DESCRIPTION;ENCODING=QUOTED-PRINTABLE:\n\n1.替代綠能不穩 民團推海水溫差發電\n\n\n2.彰縣綠能產業策略聯盟成軍\n\n\n3.拚綠能 彰縣、台電簽合作意向書\n
DTSTAMP:20260419T201843Z
DTSTART;TZID=Asia/Taipei;VALUE=DATE:20161220
DTEND;TZID=Asia/Taipei;VALUE=DATE:20161221
SEQUENCE:0
TRANSP:OPAQUE
END:VEVENT
END:VCALENDAR