BEGIN:VCALENDAR
VERSION:2.0
PRODID:-//jEvents 2.0 for Joomla//EN
CALSCALE:GREGORIAN
METHOD:PUBLISH
BEGIN:VEVENT
UID:b5a8e3cb4a23a143b48154a34d85873c
CATEGORIES:每日新聞彙整
SUMMARY:每日剪報
DESCRIPTION;ENCODING=QUOTED-PRINTABLE:\n\n1.日本福島核電廠第三人罹癌\n
DTSTAMP:20260419T201842Z
DTSTART;TZID=Asia/Taipei;VALUE=DATE:20161218
DTEND;TZID=Asia/Taipei;VALUE=DATE:20161219
SEQUENCE:0
TRANSP:OPAQUE
END:VEVENT
END:VCALENDAR