BEGIN:VCALENDAR
VERSION:2.0
PRODID:-//jEvents 2.0 for Joomla//EN
CALSCALE:GREGORIAN
METHOD:PUBLISH
BEGIN:VEVENT
UID:43c500f9c0d56cf81a7f1fa983da0bcd
CATEGORIES:每日新聞彙整
SUMMARY:每日剪報
DESCRIPTION;ENCODING=QUOTED-PRINTABLE:\n\n1.大潭電廠周遭 藻礁生態完整\n\n\n2.產業快訊－丹能4座風場確定落腳彰化\n\n\n3.與丹麥商合作彰化推離岸風電\n\n\n4.日本
 發地熱財技術輸出海外蓋電廠\n
DTSTAMP:20260419T201844Z
DTSTART;TZID=Asia/Taipei;VALUE=DATE:20161217
DTEND;TZID=Asia/Taipei;VALUE=DATE:20161218
SEQUENCE:0
TRANSP:OPAQUE
END:VEVENT
END:VCALENDAR