BEGIN:VCALENDAR
VERSION:2.0
PRODID:-//jEvents 2.0 for Joomla//EN
CALSCALE:GREGORIAN
METHOD:PUBLISH
BEGIN:VEVENT
UID:9339b14930ecf1f3fc7632da8481ef07
CATEGORIES:每日新聞彙整
SUMMARY:每日剪報
DESCRIPTION;ENCODING=QUOTED-PRINTABLE:\n\n1.歲修、滲油檢修 核一、核二停擺42小時\n\n\n2.冷卻器滲油核一、二廠全停機\n\n\n3.頭一遭核一核二停擺42小時\n\n\n4.
 《科技基本法》修錯方向應煞車\n\n\n5.反核食才最科學最人道\n
DTSTAMP:20260419T201746Z
DTSTART;TZID=Asia/Taipei;VALUE=DATE:20161219
DTEND;TZID=Asia/Taipei;VALUE=DATE:20161220
SEQUENCE:0
TRANSP:OPAQUE
END:VEVENT
END:VCALENDAR