BEGIN:VCALENDAR
VERSION:2.0
PRODID:-//jEvents 2.0 for Joomla//EN
CALSCALE:GREGORIAN
METHOD:PUBLISH
BEGIN:VEVENT
UID:ec888ba8db4a26e7fc98eec92175ae47
CATEGORIES:每日新聞彙整
SUMMARY:每日剪報
DESCRIPTION;ENCODING=QUOTED-PRINTABLE:\n\n1.2021年核廢遷出蘭嶼？ 台電：無法承諾\n\n\n2.卡20年 電業法初審 開放綠能\n\n\n3.新電業法立院初審過關\n
DTSTAMP:20260419T215715Z
DTSTART;TZID=Asia/Taipei;VALUE=DATE:20161216
DTEND;TZID=Asia/Taipei;VALUE=DATE:20161217
SEQUENCE:0
TRANSP:OPAQUE
END:VEVENT
END:VCALENDAR