BEGIN:VCALENDAR
VERSION:2.0
PRODID:-//jEvents 2.0 for Joomla//EN
CALSCALE:GREGORIAN
METHOD:PUBLISH
BEGIN:VEVENT
UID:452a6f25704c4daf004fb172d6c7dad1
CATEGORIES:每日新聞彙整
SUMMARY:每日剪報
DESCRIPTION;ENCODING=QUOTED-PRINTABLE:\n\n1.台大論文造假風暴掛名12年收718萬\n\n\n2.整理包／一次看懂台大論文風暴\n\n\n3.衝論文、拚計畫…五招遏歪風\n\n\n4.
 韓國拚再生能源砸1.2兆籌組國家隊\n\n\n5.台清大研究團隊研發近紅外有機發光二極體\n\n\n6.台灣之光台清紅外OLED技術超前世界10倍\n
 \n\n7.臺灣之”光”臺大清大研發 獨步全球\n\n\n \n
DTSTAMP:20260419T201933Z
DTSTART;TZID=Asia/Taipei;VALUE=DATE:20161215
DTEND;TZID=Asia/Taipei;VALUE=DATE:20161216
SEQUENCE:0
TRANSP:OPAQUE
END:VEVENT
END:VCALENDAR