BEGIN:VCALENDAR
VERSION:2.0
PRODID:-//jEvents 2.0 for Joomla//EN
CALSCALE:GREGORIAN
METHOD:PUBLISH
BEGIN:VEVENT
UID:be58123b91409a23330e3c4564ffee09
CATEGORIES:每日新聞彙整
SUMMARY:每日剪報
DESCRIPTION;ENCODING=QUOTED-PRINTABLE:\n\n1.日企主管挽袖減碳跑在政府前\n\n\n2.歷史現場／各國利益擺不平京都議定書失敗\n\n\n3.工廠碳排誓歸零日企甩保守包袱\n\n\n4
 .王正方／台灣有沒有供電危機？\n\n\n5.輻射防護師說話\n\n\n6.能源局為產業減碳添利器\n\n\n7.江仁台》只剩台灣堅持廢核\n\n\n
 8.上網順便產生熱源 巴黎泳池用伺服器熱能加溫\n
DTSTAMP:20260419T201842Z
DTSTART;TZID=Asia/Taipei;VALUE=DATE:20161214
DTEND;TZID=Asia/Taipei;VALUE=DATE:20161215
SEQUENCE:0
TRANSP:OPAQUE
END:VEVENT
END:VCALENDAR