BEGIN:VCALENDAR
VERSION:2.0
PRODID:-//jEvents 2.0 for Joomla//EN
CALSCALE:GREGORIAN
METHOD:PUBLISH
BEGIN:VEVENT
UID:d16c18adcf27e4ebec38153b773842be
CATEGORIES:每日新聞彙整
SUMMARY:每日剪報
DESCRIPTION;ENCODING=QUOTED-PRINTABLE:\n\n1.美企不甩川普續拚低碳經濟\n\n\n2.減碳潛力台灣三企業獲認可\n\n\n3.環保vs.經濟川普陷入兩難\n\n\n4.蘋果谷歌催生綠電
 政院：修法引資\n\n\n5.台糖力推沼氣發電\n\n\n6.台灣的選擇－年金改革困局如何突破？\n\n\n7.垃圾分類太徹底 瑞典進口垃圾來發電\n
 \n\n8.新北工廠全面導入太陽能 估年減碳2.96萬公噸\n
DTSTAMP:20260419T201907Z
DTSTART;TZID=Asia/Taipei;VALUE=DATE:20161213
DTEND;TZID=Asia/Taipei;VALUE=DATE:20161214
SEQUENCE:0
TRANSP:OPAQUE
END:VEVENT
END:VCALENDAR