BEGIN:VCALENDAR
VERSION:2.0
PRODID:-//jEvents 2.0 for Joomla//EN
CALSCALE:GREGORIAN
METHOD:PUBLISH
BEGIN:VEVENT
UID:779e44af17eb023a24759ace3b0ff574
CATEGORIES:每日新聞彙整
SUMMARY:每日剪報
DESCRIPTION;ENCODING=QUOTED-PRINTABLE:\n\n1.戰場開太多總預算審查延宕新政恐斷炊\n
DTSTAMP:20260419T201744Z
DTSTART;TZID=Asia/Taipei;VALUE=DATE:20161211
DTEND;TZID=Asia/Taipei;VALUE=DATE:20161212
SEQUENCE:0
TRANSP:OPAQUE
END:VEVENT
END:VCALENDAR