BEGIN:VCALENDAR
VERSION:2.0
PRODID:-//jEvents 2.0 for Joomla//EN
CALSCALE:GREGORIAN
METHOD:PUBLISH
BEGIN:VEVENT
UID:31d36fda9da8c83cd65e5ca9f075a347
CATEGORIES:每日新聞彙整
SUMMARY:每日剪報
DESCRIPTION;ENCODING=QUOTED-PRINTABLE:\n\n1.福島核災善後 預算暴增至6兆\n\n\n2.拒核食自救環團赴日訪察\n\n\n3.日收福島核災爛攤處理費飆上6兆\n\n\n4.中火燃煤改
 燃氣台電：難度很高\n\n\n \n
DTSTAMP:20260419T201745Z
DTSTART;TZID=Asia/Taipei;VALUE=DATE:20161210
DTEND;TZID=Asia/Taipei;VALUE=DATE:20161211
SEQUENCE:0
TRANSP:OPAQUE
END:VEVENT
END:VCALENDAR