BEGIN:VCALENDAR
VERSION:2.0
PRODID:-//jEvents 2.0 for Joomla//EN
CALSCALE:GREGORIAN
METHOD:PUBLISH
BEGIN:VEVENT
UID:2b6b3981eb44b59fccb925335f133b0b
CATEGORIES:每日新聞彙整
SUMMARY:每日剪報
DESCRIPTION;ENCODING=QUOTED-PRINTABLE:\n\n1.德能源轉型成功？台灣學者：近年風險高\n\n\n2.我邁向電業自由化德專家：第二階段才能達標\n\n\n3.台電打造綠能生態園區布局永續發
 展邁向「生態低碳島」\n\n\n4.拓再生能源版圖中廣核傳買下Douvan 風電項目\n\n\n5.臺德能源轉型論壇專家交流熱絡\n\n\n6.綠電認
 購試辦 擬延至明年\n\n\n \n
DTSTAMP:20260419T201906Z
DTSTART;TZID=Asia/Taipei;VALUE=DATE:20161209
DTEND;TZID=Asia/Taipei;VALUE=DATE:20161210
SEQUENCE:0
TRANSP:OPAQUE
END:VEVENT
END:VCALENDAR