BEGIN:VCALENDAR
VERSION:2.0
PRODID:-//jEvents 2.0 for Joomla//EN
CALSCALE:GREGORIAN
METHOD:PUBLISH
BEGIN:VEVENT
UID:89310eef5cd55ded054532eae3fa0e9f
CATEGORIES:每日新聞彙整
SUMMARY:每日剪報
DESCRIPTION;ENCODING=QUOTED-PRINTABLE:\n\n1.閒置核燃料六氟化鈾 可望兩年內運他國\n\n\n2.國際期刊龍頭年年漲 台大明年停訂\n\n\n3.核研所六氟化鈾 2年內運出國\n\n\
 n4.谷歌挺再生能源明年全面採用\n\n\n5.看上中國新能源產業進軍風電蘋果投資金風子公司\n\n\n6.衛福部長：核食檢驗能量沒問題\n\n\n7
 .期刊資料庫頻漲價台清交成9校聯合談判無效\n\n\n8.勿迷信期刊影響力學者建議建立公開資料庫\n
DTSTAMP:20260419T201842Z
DTSTART;TZID=Asia/Taipei;VALUE=DATE:20161208
DTEND;TZID=Asia/Taipei;VALUE=DATE:20161209
SEQUENCE:0
TRANSP:OPAQUE
END:VEVENT
END:VCALENDAR