BEGIN:VCALENDAR
VERSION:2.0
PRODID:-//jEvents 2.0 for Joomla//EN
CALSCALE:GREGORIAN
METHOD:PUBLISH
BEGIN:VEVENT
UID:c77e8b8164ec4b1659c1f3c356db5a2c
CATEGORIES:每日新聞彙整
SUMMARY:本日無相關剪報資料
DESCRIPTION;ENCODING=QUOTED-PRINTABLE:
DTSTAMP:20260419T201743Z
DTSTART;TZID=Asia/Taipei;VALUE=DATE:20161207
DTEND;TZID=Asia/Taipei;VALUE=DATE:20161208
SEQUENCE:0
TRANSP:OPAQUE
END:VEVENT
END:VCALENDAR