BEGIN:VCALENDAR
VERSION:2.0
PRODID:-//jEvents 2.0 for Joomla//EN
CALSCALE:GREGORIAN
METHOD:PUBLISH
BEGIN:VEVENT
UID:9ec216bb87caaa1454f179e3df3e6391
CATEGORIES:每日新聞彙整
SUMMARY:每日剪報
DESCRIPTION;ENCODING=QUOTED-PRINTABLE:\n\n1.電業法公聽會環團︰台電壟斷情況未改\n\n\n2.各縣市無儀器僅原能會能鑑定藍議員：檢驗核食政府玩假的\n\n\n3.供電穩定？價格合理？
 洪德生：電業自由化要深思\n\n\n4.汙染防治成本高可能虧到「光屁股」...李遠哲：川普不可能重啟煤電\n\n\n5.《政府採購法》將修法巨額採購、
 專業工程採最有利標\n
DTSTAMP:20260419T201843Z
DTSTART;TZID=Asia/Taipei;VALUE=DATE:20161206
DTEND;TZID=Asia/Taipei;VALUE=DATE:20161207
SEQUENCE:0
TRANSP:OPAQUE
END:VEVENT
END:VCALENDAR