BEGIN:VCALENDAR
VERSION:2.0
PRODID:-//jEvents 2.0 for Joomla//EN
CALSCALE:GREGORIAN
METHOD:PUBLISH
BEGIN:VEVENT
UID:9918fcc5fc69efcf56337e705cabf2a8
CATEGORIES:每日新聞彙整
SUMMARY:每日剪報
DESCRIPTION;ENCODING=QUOTED-PRINTABLE:\n\n1.東南亞最大離岸風電碼頭落腳台中\n
DTSTAMP:20260419T201744Z
DTSTART;TZID=Asia/Taipei;VALUE=DATE:20161204
DTEND;TZID=Asia/Taipei;VALUE=DATE:20161205
SEQUENCE:0
TRANSP:OPAQUE
END:VEVENT
END:VCALENDAR