BEGIN:VCALENDAR
VERSION:2.0
PRODID:-//jEvents 2.0 for Joomla//EN
CALSCALE:GREGORIAN
METHOD:PUBLISH
BEGIN:VEVENT
UID:8e6cd72cf9afe06a9544b8c1118b3047
CATEGORIES:每日新聞彙整
SUMMARY:每日剪報
DESCRIPTION;ENCODING=QUOTED-PRINTABLE:\n\n1.小心「非核家園」實現不了\n\n\n2.能源效率 永續發展關鍵\n\n\n3.藍拒核食公投連署遍地開花\n\n\n4.採購法修法廠商行賄將
 停權\n\n\n5.ICRP告訴你　輻射沒安全下限\n\n\n6.太陽能板會殺了水庫\n\n\n7.採購法翻修最有利標鬆綁\n\n\n8.核災食品檢驗
  議員批玩假的\n
DTSTAMP:20260419T201744Z
DTSTART;TZID=Asia/Taipei;VALUE=DATE:20161205
DTEND;TZID=Asia/Taipei;VALUE=DATE:20161206
SEQUENCE:0
TRANSP:OPAQUE
END:VEVENT
END:VCALENDAR