BEGIN:VCALENDAR
VERSION:2.0
PRODID:-//jEvents 2.0 for Joomla//EN
CALSCALE:GREGORIAN
METHOD:PUBLISH
BEGIN:VEVENT
UID:0d09d3172e78d7fa4a9ca722d8248c01
CATEGORIES:每日新聞彙整
SUMMARY:每日剪報
DESCRIPTION;ENCODING=QUOTED-PRINTABLE:\n\n1.地熱發電保溫技術 台大試驗成功\n\n\n2.陸太陽能南進台廠有危機\n
DTSTAMP:20260419T215659Z
DTSTART;TZID=Asia/Taipei;VALUE=DATE:20161203
DTEND;TZID=Asia/Taipei;VALUE=DATE:20161204
SEQUENCE:0
TRANSP:OPAQUE
END:VEVENT
END:VCALENDAR