BEGIN:VCALENDAR
VERSION:2.0
PRODID:-//jEvents 2.0 for Joomla//EN
CALSCALE:GREGORIAN
METHOD:PUBLISH
BEGIN:VEVENT
UID:190060337e8020aa3f7d22fe4991c253
CATEGORIES:每日新聞彙整
SUMMARY:每日剪報
DESCRIPTION;ENCODING=QUOTED-PRINTABLE:\n\n1.增列核電除役成本台電獲利閃縮281億\n\n\n2.電業自由化學者憂恐現能源貧民\n\n\n3.要不要放輻射公聽會名稱吵半天\n\n\n4
 .社論-全球重新擁核台灣憑什麼反核\n\n\n5.政院版電業法學者要求退回\n\n\n6.核廢改室內貯存每戶年多繳600元電費\n\n\n7.能源局兼
 電力監理？學者批監守自盜\n
DTSTAMP:20260419T201842Z
DTSTART;TZID=Asia/Taipei;VALUE=DATE:20161202
DTEND;TZID=Asia/Taipei;VALUE=DATE:20161203
SEQUENCE:0
TRANSP:OPAQUE
END:VEVENT
END:VCALENDAR