BEGIN:VCALENDAR
VERSION:2.0
PRODID:-//jEvents 2.0 for Joomla//EN
CALSCALE:GREGORIAN
METHOD:PUBLISH
BEGIN:VEVENT
UID:f62b917636d19cef561b202ea2f580cc
CATEGORIES:每日新聞彙整
SUMMARY:每日剪報
DESCRIPTION;ENCODING=QUOTED-PRINTABLE:\n\n1.日核災區食品開放？ 政院：公聽會後決定\n\n\n2.電業法年底過關很拚\n\n\n3.核二廠一號機歲修恐提前除役\n\n\n4.核能兩機
 組將熄火林口通霄廠補位\n\n\n5.會算不會除水庫淡淡的哀愁\n\n\n6.水庫設太陽能板立委轟「搞破壞」\n\n\n7.水庫設太陽能板澄清湖除名\
 n\n\n8.政院再議綠能政策聚焦太陽光電、風電\n\n\n9.大同攜手北市公有房地建太陽光電\n\n\n10.能源局節能診斷服務中心協助企業節能減碳
 \n\n\n11.耀德生物開發失智症新藥\n\n\n12.核二1號機歲修供電吃緊\n\n\n13.如何從恐懼輻射到戰勝輻射\n
DTSTAMP:20260419T201738Z
DTSTART;TZID=Asia/Taipei;VALUE=DATE:20161201
DTEND;TZID=Asia/Taipei;VALUE=DATE:20161202
SEQUENCE:0
TRANSP:OPAQUE
END:VEVENT
END:VCALENDAR