BEGIN:VCALENDAR
VERSION:2.0
PRODID:-//jEvents 2.0 for Joomla//EN
CALSCALE:GREGORIAN
METHOD:PUBLISH
BEGIN:VEVENT
UID:9e3b9abc1febd10830c6e5e535bd6639
CATEGORIES:總務處
SUMMARY:所區經三路(060館圖資大樓、027館後方道路)瀝清鋪面分段更新
DESCRIPTION;ENCODING=QUOTED-PRINTABLE:
DTSTAMP:20260419T201737Z
DTSTART;TZID=Asia/Taipei:20150831T080000
DTEND;TZID=Asia/Taipei:20150831T170000
SEQUENCE:0
TRANSP:OPAQUE
END:VEVENT
END:VCALENDAR