BEGIN:VCALENDAR
VERSION:2.0
PRODID:-//jEvents 2.0 for Joomla//EN
CALSCALE:GREGORIAN
METHOD:PUBLISH
BEGIN:VEVENT
UID:548b068354efec15ac037340c03405ec
CATEGORIES:總務處
SUMMARY:紅外線熱影像及紫外線放電影像例行檢測工作
DESCRIPTION;ENCODING=QUOTED-PRINTABLE:
DTSTAMP:20260419T201613Z
DTSTART;TZID=Asia/Taipei:20150831T080000
DTEND;TZID=Asia/Taipei:20150831T170000
SEQUENCE:0
TRANSP:OPAQUE
END:VEVENT
END:VCALENDAR