BEGIN:VCALENDAR
VERSION:2.0
PRODID:-//jEvents 2.0 for Joomla//EN
CALSCALE:GREGORIAN
METHOD:PUBLISH
BEGIN:VEVENT
UID:a076c705aeb33720eb54964c789a5056
CATEGORIES:全院
SUMMARY: 本所第1075次所會
LOCATION:060館315室
DESCRIPTION;ENCODING=QUOTED-PRINTABLE:
CONTACT:魯金芝3024
DTSTAMP:20260419T200304Z
DTSTART;TZID=Asia/Taipei:20150825T083000
SEQUENCE:0
TRANSP:OPAQUE
END:VEVENT
END:VCALENDAR