BEGIN:VCALENDAR
VERSION:2.0
PRODID:-//jEvents 2.0 for Joomla//EN
CALSCALE:GREGORIAN
METHOD:PUBLISH
BEGIN:VEVENT
UID:178bd63e61a8679ddcf082fdbc434257
CATEGORIES:每日新聞彙整
SUMMARY:每日剪報
DESCRIPTION;ENCODING=QUOTED-PRINTABLE:\n\n1.台電質疑不缺電 綠反批管理失誤\n\n\n \n\n\n \n
DTSTAMP:20260419T200320Z
DTSTART;TZID=Asia/Taipei;VALUE=DATE:20150831
DTEND;TZID=Asia/Taipei;VALUE=DATE:20150901
SEQUENCE:0
TRANSP:OPAQUE
END:VEVENT
END:VCALENDAR