BEGIN:VCALENDAR
VERSION:2.0
PRODID:-//jEvents 2.0 for Joomla//EN
CALSCALE:GREGORIAN
METHOD:PUBLISH
BEGIN:VEVENT
UID:25e52a81a198b98d77530fe1bb340dbc
CATEGORIES:每日新聞彙整
SUMMARY:本日無相關剪報資料
DESCRIPTION;ENCODING=QUOTED-PRINTABLE:
DTSTAMP:20260419T200321Z
DTSTART;TZID=Asia/Taipei;VALUE=DATE:20150828
DTEND;TZID=Asia/Taipei;VALUE=DATE:20150829
SEQUENCE:0
TRANSP:OPAQUE
END:VEVENT
END:VCALENDAR