BEGIN:VCALENDAR
VERSION:2.0
PRODID:-//jEvents 2.0 for Joomla//EN
CALSCALE:GREGORIAN
METHOD:PUBLISH
BEGIN:VEVENT
UID:e0992343e4c5ca0f3f05f06ad718d822
CATEGORIES:每日新聞彙整
SUMMARY:每日剪報
DESCRIPTION;ENCODING=QUOTED-PRINTABLE:\n\n1.不具競爭優勢台積電結束太陽能廠\n\n\n2.觀察站／陸低價搶攻太陽能淪慘業\n\n\n3.太陽能敗給低油價張忠謀改做熱電吧\n
DTSTAMP:20260419T200326Z
DTSTART;TZID=Asia/Taipei;VALUE=DATE:20150826
DTEND;TZID=Asia/Taipei;VALUE=DATE:20150827
SEQUENCE:0
TRANSP:OPAQUE
END:VEVENT
END:VCALENDAR