BEGIN:VCALENDAR
VERSION:2.0
PRODID:-//jEvents 2.0 for Joomla//EN
CALSCALE:GREGORIAN
METHOD:PUBLISH
BEGIN:VEVENT
UID:b629f4e50aad6b86b149dba0e890977f
CATEGORIES:每日新聞彙整
SUMMARY:每日剪報
DESCRIPTION;ENCODING=QUOTED-PRINTABLE:\n\n核二減容中心 運轉員溜班被活逮\n
DTSTAMP:20260419T200320Z
DTSTART;TZID=Asia/Taipei;VALUE=DATE:20150824
DTEND;TZID=Asia/Taipei;VALUE=DATE:20150825
SEQUENCE:0
TRANSP:OPAQUE
END:VEVENT
END:VCALENDAR