BEGIN:VCALENDAR
VERSION:2.0
PRODID:-//jEvents 2.0 for Joomla//EN
CALSCALE:GREGORIAN
METHOD:PUBLISH
BEGIN:VEVENT
UID:03090a34b5a813bf1d9b5a0bccc78d9f
CATEGORIES:每日新聞彙整
SUMMARY:每日剪報
DESCRIPTION;ENCODING=QUOTED-PRINTABLE:\n\n1.天兵消防班！ 核一廠演練錯誤百出\n
DTSTAMP:20260419T200325Z
DTSTART;TZID=Asia/Taipei;VALUE=DATE:20150818
DTEND;TZID=Asia/Taipei;VALUE=DATE:20150819
SEQUENCE:0
TRANSP:OPAQUE
END:VEVENT
END:VCALENDAR