BEGIN:VCALENDAR
VERSION:2.0
PRODID:-//jEvents 2.0 for Joomla//EN
CALSCALE:GREGORIAN
METHOD:PUBLISH
BEGIN:VEVENT
UID:43131e2d671b7739257ff191c45e9674
CATEGORIES:材料所
SUMMARY:學術演講/燃材組/串接式有機/無機太陽能電池
DESCRIPTION;ENCODING=QUOTED-PRINTABLE:\n\n一、名稱： 串接式有機/無機太陽能電池\n\n\n二、日期： 104年08月19日 (星期三) 15時00分--17時00分\n\n\n三、地
 點： 020A館201會議室\n\n\n四、講師： 馬維揚先生\n\n\n五、聯絡人： 陳鳳秋　分機 6604\n\n\n備註： 參加人員可登錄終身學
 習護照實體時數： 2 小時，數位時數：0 小時\n\n\n敬請到本所網站首頁「研習線上登錄」系統報名。\n\n\nhttp://192.168.160
 .12:8080/class/cls_index.jsp\n
DTSTAMP:20260419T201745Z
DTSTART;TZID=Asia/Taipei:20150819T150000
DTEND;TZID=Asia/Taipei:20150819T170000
SEQUENCE:0
TRANSP:OPAQUE
END:VEVENT
END:VCALENDAR