BEGIN:VCALENDAR
VERSION:2.0
PRODID:-//jEvents 2.0 for Joomla//EN
CALSCALE:GREGORIAN
METHOD:PUBLISH
BEGIN:VEVENT
UID:4873b19ca26cba8710f44ecbd2aba06d
CATEGORIES:材料所
SUMMARY:學術演講/燃材組/參加2015年國際熱噴塗會議及國際合作環境效應促進材料劣化會議出國報告
DESCRIPTION;ENCODING=QUOTED-PRINTABLE:\n\n一、名稱： 參加2015年國際熱噴塗會議及國際合作環境效應促進材料劣化會議出國報告\n\n\n二、日期： 104年08月18日 (星期二) 1
 5時00分--104年08月18日 (星期二) 17時00分\n\n\n三、地點： 020A館201會議室\n\n\n四、講師： 陳長盈組長、黃俊源博
 士、陳泰丞先生\n\n\n五、聯絡人： 陳泰丞　分機 6720\n\n\n備註： 參加人員可登錄終身學習護照實體時數： 2 小時，數位時數：0 小時\
 n\n\n敬請到本所網站首頁「研習線上登錄」系統報名。\n\n\nhttp://192.168.160.12:8080/class/cls_index
 .jsp\n
DTSTAMP:20260419T215658Z
DTSTART;TZID=Asia/Taipei:20150818T150000
DTEND;TZID=Asia/Taipei:20150818T170000
SEQUENCE:0
TRANSP:OPAQUE
END:VEVENT
END:VCALENDAR