BEGIN:VCALENDAR
VERSION:2.0
PRODID:-//jEvents 2.0 for Joomla//EN
CALSCALE:GREGORIAN
METHOD:PUBLISH
BEGIN:VEVENT
UID:5101959ec918b2f1b3bd600876769c4f
CATEGORIES:每日新聞彙整
SUMMARY:每日剪報
DESCRIPTION;ENCODING=QUOTED-PRINTABLE:\n\n1.公務員兼職民企董監 銓敘部劃紅線\n\n\n2.翻轉全球隔熱節能膜市場 核研所獨步全球真空電弧電漿技術技轉東鏘公司\n
DTSTAMP:20260419T200304Z
DTSTART;TZID=Asia/Taipei;VALUE=DATE:20150814
DTEND;TZID=Asia/Taipei;VALUE=DATE:20150815
SEQUENCE:0
TRANSP:OPAQUE
END:VEVENT
END:VCALENDAR