BEGIN:VCALENDAR
VERSION:2.0
PRODID:-//jEvents 2.0 for Joomla//EN
CALSCALE:GREGORIAN
METHOD:PUBLISH
BEGIN:VEVENT
UID:26bc31f772d893eed547de50d8f55376
CATEGORIES:每日新聞彙整
SUMMARY:每日剪報
DESCRIPTION;ENCODING=QUOTED-PRINTABLE:\n\n1.太陽能登陸馬祖 擴及全國\n\n\n2.微藻以小吃大 1公斤吞2公斤CO2\n\n\n3.廢氣變黃金微藻成減碳利器\n\n\n4.從日本川
 內核電廠重啟看台灣\n
DTSTAMP:20260419T200302Z
DTSTART;TZID=Asia/Taipei;VALUE=DATE:20150813
DTEND;TZID=Asia/Taipei;VALUE=DATE:20150814
SEQUENCE:0
TRANSP:OPAQUE
END:VEVENT
END:VCALENDAR