BEGIN:VCALENDAR
VERSION:2.0
PRODID:-//jEvents 2.0 for Joomla//EN
CALSCALE:GREGORIAN
METHOD:PUBLISH
BEGIN:VEVENT
UID:f3cff7ec862ff4a76bdb6e4e3316dc47
CATEGORIES:每日新聞彙整
SUMMARY:本日無相關剪報資料
DESCRIPTION;ENCODING=QUOTED-PRINTABLE:
DTSTAMP:20260419T213317Z
DTSTART;TZID=Asia/Taipei;VALUE=DATE:20150807
DTEND;TZID=Asia/Taipei;VALUE=DATE:20150808
SEQUENCE:0
TRANSP:OPAQUE
END:VEVENT
END:VCALENDAR