BEGIN:VCALENDAR
VERSION:2.0
PRODID:-//jEvents 2.0 for Joomla//EN
CALSCALE:GREGORIAN
METHOD:PUBLISH
BEGIN:VEVENT
UID:969eb87f7e886e34c3449aa2bf1cd578
CATEGORIES:每日新聞彙整
SUMMARY:每日剪報
DESCRIPTION;ENCODING=QUOTED-PRINTABLE:\n\n1.原爆倖存者：反核電、反安倍戰爭史觀\n
DTSTAMP:20260419T213317Z
DTSTART;TZID=Asia/Taipei;VALUE=DATE:20150805
DTEND;TZID=Asia/Taipei;VALUE=DATE:20150806
SEQUENCE:0
TRANSP:OPAQUE
END:VEVENT
END:VCALENDAR