BEGIN:VCALENDAR
VERSION:2.0
PRODID:-//jEvents 2.0 for Joomla//EN
CALSCALE:GREGORIAN
METHOD:PUBLISH
BEGIN:VEVENT
UID:bc6cda6c5254fbac8a8234232be1d3a2
CATEGORIES:每日新聞彙整
SUMMARY:每日剪報
DESCRIPTION;ENCODING=QUOTED-PRINTABLE:\n\n1.氣候變遷將成美大選焦點\n\n\n2.台南陽光電城成果豐\n\n\n \n
DTSTAMP:20260419T200303Z
DTSTART;TZID=Asia/Taipei;VALUE=DATE:20150804
DTEND;TZID=Asia/Taipei;VALUE=DATE:20150805
SEQUENCE:0
TRANSP:OPAQUE
END:VEVENT
END:VCALENDAR