BEGIN:VCALENDAR
VERSION:2.0
PRODID:-//jEvents 2.0 for Joomla//EN
CALSCALE:GREGORIAN
METHOD:PUBLISH
BEGIN:VEVENT
UID:0bdfe2e46d1a9bc1635f39c83417714f
CATEGORIES:全院
SUMMARY:新進人員講習
LOCATION:060館國際會議廳
DESCRIPTION;ENCODING=QUOTED-PRINTABLE:\n\n08:20~08:30簽到\n\n\n12:00簽退\n\n\n由人事室、秘書室、政風室、主計室、綜計組派員授課\n
CONTACT:王寵皓 2103
DTSTAMP:20260419T213317Z
DTSTART;TZID=Asia/Taipei:20150803T082000
DTEND;TZID=Asia/Taipei:20150803T120000
SEQUENCE:0
TRANSP:OPAQUE
END:VEVENT
END:VCALENDAR