BEGIN:VCALENDAR
VERSION:2.0
PRODID:-//jEvents 2.0 for Joomla//EN
CALSCALE:GREGORIAN
METHOD:PUBLISH
BEGIN:VEVENT
UID:9c96ccf6f68bd2c6a9657140c86879be
CATEGORIES:每日新聞彙整
SUMMARY:本日無相關剪報資料
DESCRIPTION;ENCODING=QUOTED-PRINTABLE:
DTSTAMP:20260419T201842Z
DTSTART;TZID=Asia/Taipei;VALUE=DATE:20170228
DTEND;TZID=Asia/Taipei;VALUE=DATE:20170301
SEQUENCE:0
TRANSP:OPAQUE
END:VEVENT
END:VCALENDAR